BEGIN:VCALENDAR
VERSION:2.0
PRODID:-//WooEvents
CALSCALE:GREGORIAN
METHOD:PUBLISH
X-WR-CALNAME:WooEvents
X-ORIGINAL-URL:https://exthemes.net/wooevents
X-WR-CALDESC:
BEGIN:VTIMEZONE
TZID:Europe/Paris
END:VTIMEZONE
BEGIN:VEVENT
DTSTART;TZID=Europe/Paris:20270831T235000
DTEND;TZID=Europe/Paris:20270831T235500
DTSTAMP:20260420T210826
UID:67-thuhv192@gmail.com
SUMMARY:Out of stock
DESCRIPTION:Pellentesque habitant morbi tristique senectus et netus et malesuada fames ac turpis egestas.
URL:https://exthemes.net/wooevents/product/donec-sit-amet/
LOCATION:Roma, Italy
END:VEVENT
BEGIN:VTIMEZONE
TZID:Europe/Paris
END:VTIMEZONE
BEGIN:VEVENT
DTSTART;TZID=Europe/Paris:20270525T023000
DTEND;TZID=Europe/Paris:20270525T070000
DTSTAMP:20260420T210826
UID:73-thuhv192@gmail.com
SUMMARY:Premium color event
DESCRIPTION:Pellentesque habitant morbi tristique senectus et netus et malesuada fames ac turpis egestas. Vestibulum tortor quam, feugiat vitae, ultricies eget, tempor sit amet, ante. Donec eu libero sit amet quam egestas semper. Aenean ultricies mi vitae est. Mauris placerat eleifend leo.
URL:https://exthemes.net/wooevents/product/premium-color-event/
LOCATION:75004 Paris, France
END:VEVENT
BEGIN:VTIMEZONE
TZID:Europe/Paris
END:VTIMEZONE
BEGIN:VEVENT
DTSTART;TZID=Europe/Paris:20260918T153000
DTEND;TZID=Europe/Paris:20260918T100000
DTSTAMP:20260420T210826
UID:11100-thuhv192@gmail.com
SUMMARY:WordCamp Israel
DESCRIPTION:Pelle habitant morbi trist senectus et netus et male fames ac turpis egestas
URL:https://exthemes.net/wooevents/product/wordcamp-israel-2/
LOCATION:26 Yaakov Shreibom Street, Ramat Beit Hakerem Jerusalem
END:VEVENT
BEGIN:VTIMEZONE
TZID:Europe/Paris
END:VTIMEZONE
BEGIN:VEVENT
DTSTART;TZID=Europe/Paris:20260805T010000
DTEND;TZID=Europe/Paris:20260805T020000
DTSTAMP:20260420T210826
UID:11229-thuhv192@gmail.com
SUMMARY:WordCamp Mumbai (recurring event)
DESCRIPTION:Pellentesque habitant morbi tristique senectus et netus et malesuada fames ac turpis egestas. Vestibulum tortor quam
URL:https://exthemes.net/wooevents/product/wordcamp-mumbai-recurring-event-8/
LOCATION:Opposite Lilavati Hospital, Bandra Reclamation, Bandra West, Mumbai ? 400050, India
END:VEVENT
BEGIN:VTIMEZONE
TZID:Europe/Paris
END:VTIMEZONE
BEGIN:VEVENT
DTSTART;TZID=Europe/Paris:20260706T010000
DTEND;TZID=Europe/Paris:20260707T020000
DTSTAMP:20260420T210826
UID:87-thuhv192@gmail.com
SUMMARY:WordCamp Mumbai (recurring event)
DESCRIPTION:Pellentesque habitant morbi tristique senectus et netus et malesuada fames ac turpis egestas.
URL:https://exthemes.net/wooevents/product/wordcamp-mumbai/
LOCATION:Opposite Lilavati Hospital, Bandra Reclamation, Bandra West, Mumbai – 400050, India
END:VEVENT
BEGIN:VTIMEZONE
TZID:Europe/Paris
END:VTIMEZONE
BEGIN:VEVENT
DTSTART;TZID=Europe/Paris:20260703T000000
DTEND;TZID=Europe/Paris:20260703T150000
DTSTAMP:20260420T210826
UID:11211-thuhv192@gmail.com
SUMMARY:WordCamp Israel
DESCRIPTION:Pelle habitant morbi trist senectus et netus et male fames ac turpis egestas
URL:https://exthemes.net/wooevents/product/wordcamp-israel-3/
LOCATION:Roma, Italy
END:VEVENT
BEGIN:VTIMEZONE
TZID:Europe/Paris
END:VTIMEZONE
BEGIN:VEVENT
DTSTART;TZID=Europe/Paris:20260621T153000
DTEND;TZID=Europe/Paris:20260621T100000
DTSTAMP:20260420T210826
UID:11513-thuhv192@gmail.com
SUMMARY:WordCamp Israel
DESCRIPTION:Pelle habitant morbi trist senectus et netus et male fames ac turpis egestas
URL:https://exthemes.net/wooevents/product/wordcamp-israel-4/
LOCATION:26 Yaakov Shreibom Street, Ramat Beit Hakerem Jerusalem
END:VEVENT
BEGIN:VTIMEZONE
TZID:America/Anchorage
END:VTIMEZONE
BEGIN:VEVENT
DTSTART;TZID=America/Anchorage:20260617T123000
DTEND;TZID=America/Anchorage:20260617T180000
DTSTAMP:20260420T210826
UID:90-thuhv192@gmail.com
SUMMARY:Pellentesque habitant morbi
DESCRIPTION:Nulla fringilla a dui in placerat. Proin facilisis, augue non ornare ullamcorper, sem turpis rutrum risus, eget blandit magna sem sed urna: https://exthemes.net/wooevents
URL:https://exthemes.net/wooevents/product/pellentesque-habitant-morbi/
LOCATION:38440 Wolfsburg, Germany
END:VEVENT
BEGIN:VTIMEZONE
TZID:Europe/Paris
END:VTIMEZONE
BEGIN:VEVENT
DTSTART;TZID=Europe/Paris:20260606T010000
DTEND;TZID=Europe/Paris:20260606T100000
DTSTAMP:20260420T210826
UID:11207-thuhv192@gmail.com
SUMMARY:WordCamp London
DESCRIPTION:Aliquam ac eleifend ex. Nullam pellentesque at nunc ut suscipit.
URL:https://exthemes.net/wooevents/product/wordcamp-london-4/
LOCATION:London, England, United Kingdom
END:VEVENT
BEGIN:VTIMEZONE
TZID:Europe/Paris
END:VTIMEZONE
BEGIN:VEVENT
DTSTART;TZID=Europe/Paris:20260601T223000
DTEND;TZID=Europe/Paris:20260602T233000
DTSTAMP:20260420T210826
UID:60-thuhv192@gmail.com
SUMMARY:Gravida porta neque
DESCRIPTION:Pellentesque habitant morbi tristique senectus et netus et malesuada fames ac turpis egestas. Vestibulum tortor quam, feugiat vitae, ultricies eget, tempor sit amet, ante. Donec eu libero sit amet quam egestas semper. Aenean ultricies mi vitae est. Mauris placerat eleifend leo.
URL:https://exthemes.net/wooevents/product/gravida-porta-neque/
LOCATION:Roma, Italy
END:VEVENT
BEGIN:VTIMEZONE
TZID:Europe/Paris
END:VTIMEZONE
BEGIN:VEVENT
DTSTART;TZID=Europe/Paris:20260530T010000
DTEND;TZID=Europe/Paris:20260530T020000
DTSTAMP:20260420T210826
UID:6214-thuhv192@gmail.com
SUMMARY:WordCamp Mumbai (recurring event)
DESCRIPTION:Pellentesque habitant morbi tristique senectus et netus et malesuada
URL:https://exthemes.net/wooevents/product/wordcamp-mumbai-recurring-event-4/
LOCATION:Opposite Lilavati Hospital, Bandra Reclamation, Bandra West, Mumbai – 400050, India
END:VEVENT
BEGIN:VTIMEZONE
TZID:Europe/Paris
END:VTIMEZONE
BEGIN:VEVENT
DTSTART;TZID=Europe/Paris:20260527T140000
DTEND;TZID=Europe/Paris:20260527T223000
DTSTAMP:20260420T210826
UID:4634-thuhv192@gmail.com
SUMMARY:Free event tickets
DESCRIPTION:Pellentesque habitant morbi tristique senectus et netus et malesuada fames ac turpis egestas. Vestibulum tortor quam, feugiat vitae, ultricies eget, tempor sit amet, ante. Donec eu libero sit amet quam egestas semper. Aenean ultricies mi vitae est. Mauris placerat eleifend leo.
URL:https://exthemes.net/wooevents/product/free-event-tickets/
LOCATION:Roma, Italy
END:VEVENT
BEGIN:VTIMEZONE
TZID:Europe/Paris
END:VTIMEZONE
BEGIN:VEVENT
DTSTART;TZID=Europe/Paris:20260525T033000
DTEND;TZID=Europe/Paris:20260525T090000
DTSTAMP:20260420T210826
UID:37-thuhv192@gmail.com
SUMMARY:Morbi fermentum at nunc
DESCRIPTION:Vestibulum tortor quam, feugiat vitae, ultricies eget, tempor sit amet, ante. Donec eu libero sit amet quam egestas semper
URL:https://exthemes.net/wooevents/product/morbi-fermentum-at-nunc/
LOCATION:100-148 E 5th St, Austin, TX 78701, USA
END:VEVENT
BEGIN:VTIMEZONE
TZID:Europe/Paris
END:VTIMEZONE
BEGIN:VEVENT
DTSTART;TZID=Europe/Paris:20260521T013000
DTEND;TZID=Europe/Paris:20260521T033000
DTSTAMP:20260420T210826
UID:11225-thuhv192@gmail.com
SUMMARY:External /Affiliate /Custom link
DESCRIPTION:Pellentesque habitant morbi tristique senectus et netus et malesuada fames ac turpis egestas.
URL:https://exthemes.net/wooevents/product/external-affiliate-custom-link/
LOCATION:Sydney, New South Wales, Australia
END:VEVENT
BEGIN:VTIMEZONE
TZID:Europe/Paris
END:VTIMEZONE
BEGIN:VEVENT
DTSTART;TZID=Europe/Paris:20260519T010000
DTEND;TZID=Europe/Paris:20260519T233000
DTSTAMP:20260420T210826
UID:11228-thuhv192@gmail.com
SUMMARY:WordCamp Mumbai
DESCRIPTION:Pellentesque habitant morbi tristique senectus et netus et malesuada fames
URL:https://exthemes.net/wooevents/product/wordcamp-mumbai-3/
LOCATION:Opposite Lilavati Hospital, Bandra Reclamation, Bandra West, Mumbai ? 400050, India
END:VEVENT
BEGIN:VTIMEZONE
TZID:Europe/Paris
END:VTIMEZONE
BEGIN:VEVENT
DTSTART;TZID=Europe/Paris:20260517T010000
DTEND;TZID=Europe/Paris:20260517T014500
DTSTAMP:20260420T210826
UID:11217-thuhv192@gmail.com
SUMMARY:WordCamp Mumbai (recurring event)
DESCRIPTION:Pellentesque habitant morbi tristique senectus et netus et malesuada fames ac turpis egestas. Vestibulum tortor quam, feugiat vitae, ultricies eget
URL:https://exthemes.net/wooevents/product/wordcamp-mumbai-recurring-event-6/
LOCATION:Opposite Lilavati Hospital, Bandra Reclamation, Bandra West, Mumbai ? 400050, India
END:VEVENT
BEGIN:VTIMEZONE
TZID:Europe/Paris
END:VTIMEZONE
BEGIN:VEVENT
DTSTART;TZID=Europe/Paris:20260512T023000
DTEND;TZID=Europe/Paris:20260513T233000
DTSTAMP:20260420T210826
UID:11212-thuhv192@gmail.com
SUMMARY:Aenean ultricies mi vitae
DESCRIPTION:Nulla fringilla a dui in placerat. Proin facilisis, augue non ornare ullamcorper, sem turpis rutrum risus
URL:https://exthemes.net/wooevents/product/aenean-ultricies-mi-vitae-2/
LOCATION:10178 Berlin, Germany
END:VEVENT
BEGIN:VTIMEZONE
TZID:Europe/Paris
END:VTIMEZONE
BEGIN:VEVENT
DTSTART;TZID=Europe/Paris:20260508T000000
DTEND;TZID=Europe/Paris:20260508T150000
DTSTAMP:20260420T210826
UID:93-thuhv192@gmail.com
SUMMARY:WordCamp Israel
DESCRIPTION:Pelle habitant morbi trist senectus et netus et male fames ac turpis egestas
URL:https://exthemes.net/wooevents/product/wordcamp-israel/
LOCATION:26 Yaakov Shreibom Street, Ramat Beit Hakerem Jerusalem
END:VEVENT
BEGIN:VTIMEZONE
TZID:Europe/Paris
END:VTIMEZONE
BEGIN:VEVENT
DTSTART;TZID=Europe/Paris:20260507T130000
DTEND;TZID=Europe/Paris:20260508T020000
DTSTAMP:20260420T210826
UID:5129-thuhv192@gmail.com
SUMMARY:Multiple options select
DESCRIPTION:
URL:https://exthemes.net/wooevents/product/multiple-options-select/
LOCATION:Washington, D.C., DC 20006, USA
END:VEVENT
BEGIN:VTIMEZONE
TZID:Europe/Paris
END:VTIMEZONE
BEGIN:VEVENT
DTSTART;TZID=Europe/Paris:20260505T023000
DTEND;TZID=Europe/Paris:20260505T070000
DTSTAMP:20260420T210826
UID:11208-thuhv192@gmail.com
SUMMARY:Premium color event
DESCRIPTION:Pellentesque habitant morbi tristique senectus et netus et malesuada fames ac turpis egestas. Vestibulum tortor quam, feugiat vitae, ultricies eget, tempor sit amet, ante. Donec eu libero sit amet quam egestas semper. Aenean ultricies mi vitae est. Mauris placerat eleifend leo.
URL:https://exthemes.net/wooevents/product/premium-color-event-2/
LOCATION:75004 Paris, France
END:VEVENT
BEGIN:VTIMEZONE
TZID:Europe/Paris
END:VTIMEZONE
BEGIN:VEVENT
DTSTART;TZID=Europe/Paris:20260503T140000
DTEND;TZID=Europe/Paris:20260503T223000
DTSTAMP:20260420T210826
UID:11215-thuhv192@gmail.com
SUMMARY:Free event tickets
DESCRIPTION:Pellentesque habitant morbi tristique senectus et netus et malesuada fames ac turpis egestas. Vestibulum tortor quam, feugiat vitae, ultricies eget, tempor sit amet, ante. Donec eu libero sit amet quam egestas semper. Aenean ultricies mi vitae est. Mauris placerat eleifend leo.
URL:https://exthemes.net/wooevents/product/free-event-tickets-2/
LOCATION:10250 NE 24th St, Bellevue, WA 98004, USA
END:VEVENT
BEGIN:VTIMEZONE
TZID:Europe/Paris
END:VTIMEZONE
BEGIN:VEVENT
DTSTART;TZID=Europe/Paris:20260430T031000
DTEND;TZID=Europe/Paris:20260430T100000
DTSTAMP:20260420T210826
UID:4651-thuhv192@gmail.com
SUMMARY:WordCamp Sunshine Coast
DESCRIPTION:Pellentesque habitant morbi tristique senectus et netus et malesuada fames ac turpis egestas. Vestibulum tortor quam, feugiat vitae
URL:https://exthemes.net/wooevents/product/wordcamp-sunshine-coast/
LOCATION:Bandra West, Mumbai – 400050, India
END:VEVENT
BEGIN:VTIMEZONE
TZID:Europe/Paris
END:VTIMEZONE
BEGIN:VEVENT
DTSTART;TZID=Europe/Paris:20260425T010000
DTEND;TZID=Europe/Paris:20260425T100000
DTSTAMP:20260420T210826
UID:70-thuhv192@gmail.com
SUMMARY:WordCamp London
DESCRIPTION:Aliquam ac eleifend ex. Nullam pellentesque at nunc ut suscipit.
URL:https://exthemes.net/wooevents/product/wordcamp-london/
LOCATION:London, England, United Kingdom
END:VEVENT
BEGIN:VTIMEZONE
TZID:Europe/Paris
END:VTIMEZONE
BEGIN:VEVENT
DTSTART;TZID=Europe/Paris:20260421T084500
DTEND;TZID=Europe/Paris:20260421T124500
DTSTAMP:20260420T210826
UID:76-thuhv192@gmail.com
SUMMARY:Event color
DESCRIPTION:Pellentesque habitant morbi tristique senectus et netus et malesuada fames ac turpis egestas. Vestibulum tortor quam, feugiat vitae, ultricies eget
URL:https://exthemes.net/wooevents/product/sed-nec-ullamcorper-mi/
LOCATION:NE 24th St, Redmond, Washington, USA
END:VEVENT
BEGIN:VTIMEZONE
TZID:Europe/Paris
END:VTIMEZONE
BEGIN:VEVENT
DTSTART;TZID=Europe/Paris:20260421T010000
DTEND;TZID=Europe/Paris:20260422T020000
DTSTAMP:20260420T210826
UID:11209-thuhv192@gmail.com
SUMMARY:WordCamp Mumbai (recurring event)
DESCRIPTION:Pellentesque habitant morbi tristique senectus et netus et malesuada fames ac turpis egestas.
URL:https://exthemes.net/wooevents/product/wordcamp-mumbai-recurring-event-3/
LOCATION:Opposite Lilavati Hospital, Bandra Reclamation, Bandra West, Mumbai ? 400050, India
END:VEVENT
END:VCALENDAR
